BEGIN:VCALENDAR
VERSION:2.0
PRODID:-//Rö&#039;grinna gård - ECPv6.13.1//NONSGML v1.0//EN
CALSCALE:GREGORIAN
METHOD:PUBLISH
X-WR-CALNAME:Rö&#039;grinna gård
X-ORIGINAL-URL:https://rogrinna.se
X-WR-CALDESC:Händelser för Rö&#039;grinna gård
REFRESH-INTERVAL;VALUE=DURATION:PT1H
X-Robots-Tag:noindex
X-PUBLISHED-TTL:PT1H
BEGIN:VTIMEZONE
TZID:Europe/Stockholm
BEGIN:DAYLIGHT
TZOFFSETFROM:+0100
TZOFFSETTO:+0200
TZNAME:CEST
DTSTART:20250330T010000
END:DAYLIGHT
BEGIN:STANDARD
TZOFFSETFROM:+0200
TZOFFSETTO:+0100
TZNAME:CET
DTSTART:20251026T010000
END:STANDARD
END:VTIMEZONE
BEGIN:VEVENT
DTSTART;TZID=Europe/Stockholm:20250816T180000
DTEND;TZID=Europe/Stockholm:20250816T200000
DTSTAMP:20260421T174532
CREATED:20250427T213721Z
LAST-MODIFIED:20250428T180621Z
UID:555-1755367200-1755374400@rogrinna.se
SUMMARY:Filmvisning - Mandela The Final Chapter
DESCRIPTION:Den 16 augusti har vi äran att få visa filmen Mandela The Final Chapter på Rögrinna gård. En film av Simon Stanford och Marika Griehsel \nFilmen Mandela The Final Chapter är ett intimt porträtt av Nelson Mandela under de sista åren av hans offentliga liv under åren fram till hans 90-årsdag. Filmen släpptes 2009 och hade premiär på BBC.  \nDen här kvällen bjuder vi in till filmvisning (50 minuter) i gårdens lada och hör sedan skaparna av filmen Simon Stanford och Marika Griehsel berätta mer. Simon är internationell TV-kameraman\, producent och korrespondent från 1993. Han är 5:e generationen sydafrikan och växte upp i samma region som Mandela bland Xhosafolket. Från 1991 arbetade han tillsammans med Marika som var afrikakrorespondent för SVT 1991-2002.  \nServering kommer finnas på plats. Mer info om kvällen uppdateras inom kort.
URL:https://rogrinna.se/kalender/filmvisning-mandela-the-final-chapter/
LOCATION:Rö’grinna gård\, Kånkback 114\, Hammarstrand\, Ragunda\, 84492\, Sweden
ATTACH;FMTTYPE=image/jpeg:https://rogrinna.se/wp-content/uploads/2025/04/Simon-and-Mandela-copy-2.jpg
END:VEVENT
END:VCALENDAR