BEGIN:VCALENDAR
VERSION:2.0
PRODID:-//Rö&#039;grinna gård - ECPv6.13.1//NONSGML v1.0//EN
CALSCALE:GREGORIAN
METHOD:PUBLISH
X-ORIGINAL-URL:https://rogrinna.se
X-WR-CALDESC:Händelser för Rö&#039;grinna gård
REFRESH-INTERVAL;VALUE=DURATION:PT1H
X-Robots-Tag:noindex
X-PUBLISHED-TTL:PT1H
BEGIN:VTIMEZONE
TZID:Europe/Stockholm
BEGIN:DAYLIGHT
TZOFFSETFROM:+0100
TZOFFSETTO:+0200
TZNAME:CEST
DTSTART:20250330T010000
END:DAYLIGHT
BEGIN:STANDARD
TZOFFSETFROM:+0200
TZOFFSETTO:+0100
TZNAME:CET
DTSTART:20251026T010000
END:STANDARD
BEGIN:DAYLIGHT
TZOFFSETFROM:+0100
TZOFFSETTO:+0200
TZNAME:CEST
DTSTART:20260329T010000
END:DAYLIGHT
BEGIN:STANDARD
TZOFFSETFROM:+0200
TZOFFSETTO:+0100
TZNAME:CET
DTSTART:20261025T010000
END:STANDARD
END:VTIMEZONE
BEGIN:VEVENT
DTSTART;VALUE=DATE:20250705
DTEND;VALUE=DATE:20250707
DTSTAMP:20260421T203921
CREATED:20250427T222646Z
LAST-MODIFIED:20250428T180718Z
UID:582-1751673600-1751846399@rogrinna.se
SUMMARY:Sommarkurs i keramik
DESCRIPTION:Sommaren 2025 återkommer intensivkursen i keramikverkstaden på gården med keramikern Anna Holmberg Björk. \nDet här är en kurs för både nybörjare och fortsättare\, som vill utveckla sin kreativitet med lera som material. Fokus ligger på kreativt skapande med hjälp av olika handbyggningstekniker (drejning ingår alltså inte). \nKursen är anpassad för vuxna\, men barn från 12 år som trivs med att koncentrerat ägna sig åt skapande är också välkomna. \nKursen omfattar 18 timmar\, fördelade på tre dagar. \nMellan dag 2 och 3 är det några veckors uppehåll för att de skapade föremålen ska hinna torka och brännas\, så att glasering kan ske den tredje kursdagen. \nKursdag 1 och 2\nLördag och söndag 5-6 juli kl 10-17 \nKursdag 3\nSöndag 27 juli kl 10-17 \nPris 1900 kr\, inkl material och fika (ungdom 12–18 år i sällskap med och på samma faktura som vuxen: 1500 kr). \nMax 8 deltagare.\nSista anmälningsdag 15 juni \nDu anmäler dig genom att skicka ett mejl till lokatten@annahb.se.
URL:https://rogrinna.se/kalender/sommarkurs-i-keramik/
LOCATION:Rö’grinna gård\, Kånkback 114\, Hammarstrand\, Ragunda\, 84492\, Sweden
ATTACH;FMTTYPE=image/jpeg:https://rogrinna.se/wp-content/uploads/2025/04/2456724c-b123-4d16-b298-515a25899fd1.jpeg
END:VEVENT
BEGIN:VEVENT
DTSTART;TZID=Europe/Stockholm:20250705T170000
DTEND;TZID=Europe/Stockholm:20250705T230000
DTSTAMP:20260421T203921
CREATED:20250427T214616Z
LAST-MODIFIED:20250428T180711Z
UID:558-1751734800-1751756400@rogrinna.se
SUMMARY:MUSIK PÅ GÅRDEN: The Rakishmen + Iain Thomson
DESCRIPTION:Tillsammans med Siljemyra Mathantverk arrangerar vi gårdskonserter sommartid under bar himmel\, med lokal mat och unik atmosfär. \nDen 5 juli ser vi fram emot att bjuda in till Irländsk/Skotsk afton med The Rakishmen och Iain Thomson för en exklusiv spelning i sommarkvällen.  \nTHE RAKISH MEN spelar traditionell folkmusik från den gröna ön i väster. Repertoaren är bred och innefattar förutom irländskt även musik från andra delar av den keltiska musikvärlden\, samt en och annan sea-shanty. Inspirationskällor är artister som The Dubliners\, The Bothy band och naturligtvis Paddy Lawless. Oavsett om det är konsert\, pubspelning eller session; gammal som ung stampar takten när the Rakishmen spelar upp. \nIAIN THOMSON kommer från Skottland. Han är musikern som har jobbat som fårklippare och stängselbyggare i hela sitt liv samtidigt som han spelat på pubar och gett konserter runtom i Skottland. Hans texter handlar om det han själv upplever och det han funderar över medan han jobbar. Med sig till Musik på gården den här kvällen har han både gitarren\, pianot och en stämma att njuta av.\n\nKöp biljett här: https://billetto.se/users/rogrinna-gard \nVÄLKOMMEN! 
URL:https://rogrinna.se/kalender/musik-pa-garden-the-rakishmen-iain-thomson/
LOCATION:Rö’grinna gård\, Kånkback 114\, Hammarstrand\, Ragunda\, 84492\, Sweden
ATTACH;FMTTYPE=image/jpeg:https://rogrinna.se/wp-content/uploads/2025/04/1000014129.jpg
END:VEVENT
BEGIN:VEVENT
DTSTART;TZID=Europe/Stockholm:20250712T170000
DTEND;TZID=Europe/Stockholm:20250712T230000
DTSTAMP:20260421T203921
CREATED:20250407T120130Z
LAST-MODIFIED:20250428T180703Z
UID:430-1752339600-1752361200@rogrinna.se
SUMMARY:MUSIK PÅ GÅRDEN: Charlie Brolund + Malin Hässlemark
DESCRIPTION:Tillsammans med Siljemyra Mathantverk arrangerar vi gårdskonserter sommartid under bar himmel\, med lokal mat och unik atmosfär. \nDen 12 juli ser vi fram emot att välkomna Charlie Brolund till Musik på gården för en exklusiv spelning i sommarkvällen. Dessutom med fantastisk lokal support: Malin Hässlemark \nCHARLIE BROLUND är artist\, kompositör\, textförfattare och en kraftfull röst inom svensk folkrock/vispop. Från att ha nördat ner sig i jazz och improvisation\, spelat sirlig folkpop i duon Two Trees\, skrivit poesi och samarbetat med flertalet etablerade musiker från den svenska indie\, pop- folk- och jazzscenen är Charlie är nu aktuell med sitt nya fullängdsalbum Brunnen med starka texter på svenska och med gäster som Daniel Ögren [Dina Ögon] och Reine Fiske [Dungen]. \nMALIN HÄSSLEMARK är en singer-songwriter från Hammarstrand med en stark koppling till countrymusiken. Efter att ha varit drivkraften bakom americana-bandet Fluru satsar hon nu på en solokarriär där hennes unika röst och gripande låtskrivande står i fokus. Våren 2024 släppte hon sin debut-EP Wildfire\, producerad av Ola Gustafsson och med medverkan av Ida Sand\, Andreas Dahlbäck och Claes Hässlemark. EP:n har fått lysande recensioner\, och låten One of These Daystoppade P4-toppen Jämtland under maxtiden 10 veckor. \nKöp biljett här:  https://billetto.se/users/rogrinna-gard \nVÄLKOMMEN!
URL:https://rogrinna.se/kalender/musik-pa-garden-charlie-brolund-malin-hasslemark/
LOCATION:Rö’grinna gård\, Kånkback 114\, Hammarstrand\, Ragunda\, 84492\, Sweden
ATTACH;FMTTYPE=image/jpeg:https://rogrinna.se/wp-content/uploads/2025/04/DSC05738FabianRosenbergEdit.jpg
END:VEVENT
BEGIN:VEVENT
DTSTART;TZID=Europe/Stockholm:20250726T170000
DTEND;TZID=Europe/Stockholm:20250726T230000
DTSTAMP:20260421T203921
CREATED:20250407T120213Z
LAST-MODIFIED:20250428T180655Z
UID:431-1753549200-1753570800@rogrinna.se
SUMMARY:MUSIK PÅ GÅRDEN: Py bäckman & Janne Bark + Haqvin & Lennart
DESCRIPTION:Tillsammans med Siljemyra Mathantverk arrangerar vi gårdskonserter sommartid under bar himmel\, med lokal mat och unik atmosfär. \nDen 26 juli ser vi fram emot att välkomna Py Bäckman och Janne Bark till Musik på gården för en exklusiv spelning i sommarkvällen.  Dessutom med fantastisk lokal support: Haqvin och Lennart. \nPY BÄCKMAN har gjort 14 soloalbum och en uppsjö av singlar\, varit med i Melodifestivalen 3 gånger samt vunnit den som låtskrivare till Stad I Ljus som av många klassas som ”Sveriges andra nationalsång”. Hon har bland annat skrivit Gabriellas sång\, Koppången\, samt fått med sånger i Svenska Psalmboken. Till Rögrinna kommer hon tillsammans med Janne Bark\, tidigare känd som Ulf Lundells gitarrist. \nHAQVIN OCH LENNART är duon från Hammarstrand som tillsammans bjuder på en musikalisk och stämningsfull resa. Haqvin\, en sångare med fantastisk närvaro\, och Lennart\, en skicklig pianist som främst ackompanjerar men även överraskar med solonummer. \nKöp biljett här:  https://billetto.se/users/rogrinna-gard \nVÄLKOMMEN!
URL:https://rogrinna.se/kalender/musik-pa-garden-py-backman-janne-bark-haqvin-lennart/
LOCATION:Rö’grinna gård\, Kånkback 114\, Hammarstrand\, Ragunda\, 84492\, Sweden
ATTACH;FMTTYPE=image/jpeg:https://rogrinna.se/wp-content/uploads/2025/04/Py-Bark-affisch-farg-A3-2.jpg
END:VEVENT
BEGIN:VEVENT
DTSTART;TZID=Europe/Stockholm:20250731T170000
DTEND;TZID=Europe/Stockholm:20250731T230000
DTSTAMP:20260421T203921
CREATED:20250427T220112Z
LAST-MODIFIED:20250428T180641Z
UID:563-1753981200-1754002800@rogrinna.se
SUMMARY:MUSIK PÅ GÅRDEN: Frida Hyvönen + Landstrom
DESCRIPTION:Tillsammans med Siljemyra Mathantverk arrangerar vi gårdskonserter sommartid under bar himmel\, med lokal mat och unik atmosfär. \nDen 31 juli ser vi fram emot att välkomna Frida Hyvönen till Musik på gården för en exklusiv spelning i sommarkvällen. Dessutom med fantastisk lokal support: Landstrom \nFRIDA HYVÖNEN albumdebuterade 2005 med ”Until Death Comes” och har därefter släppt flertalet hyllade album. Med albumet “Kvinnor och barn” 2016 vann hon två Grammis och 2021 kom hon med det nya albumet ”Dream of Independence”. Sedan dess har hon fortsatt breddat sitt eget artisteri som singer-songwriter med att komponera musik till pjäser och dansföreställningar. Våren 2024 gjorde hon den hyllade föreställningen Make me an instrument på Orionteatern. \nLANDSTROM. Bakom den lokala duon Landstrom hittar vi de äkta makarna Göran Lindström och Carina Landin. I deras musik finns det norrländska vemodet tillsammans med en aning folkmusik\, om man lyssnar noga. Men här finns också influenser av rock\, pop och americana. Kanske en svensk version av Cowboy Junkies eller 16 Horsepower\, men det är om du vill förenkla saker och ting. Landstrom är Landstrom och inget annat. \nKöp biljett här: https://billetto.se/users/rogrinna-gard\n \nVÄLKOMMEN!
URL:https://rogrinna.se/kalender/musik-pa-garden-frida-hyvonen-landstrom/
LOCATION:Rö’grinna gård\, Kånkback 114\, Hammarstrand\, Ragunda\, 84492\, Sweden
ATTACH;FMTTYPE=image/jpeg:https://rogrinna.se/wp-content/uploads/2025/04/image001-1-1.jpg
END:VEVENT
BEGIN:VEVENT
DTSTART;TZID=Europe/Stockholm:20250816T180000
DTEND;TZID=Europe/Stockholm:20250816T200000
DTSTAMP:20260421T203921
CREATED:20250427T213721Z
LAST-MODIFIED:20250428T180621Z
UID:555-1755367200-1755374400@rogrinna.se
SUMMARY:Filmvisning - Mandela The Final Chapter
DESCRIPTION:Den 16 augusti har vi äran att få visa filmen Mandela The Final Chapter på Rögrinna gård. En film av Simon Stanford och Marika Griehsel \nFilmen Mandela The Final Chapter är ett intimt porträtt av Nelson Mandela under de sista åren av hans offentliga liv under åren fram till hans 90-årsdag. Filmen släpptes 2009 och hade premiär på BBC.  \nDen här kvällen bjuder vi in till filmvisning (50 minuter) i gårdens lada och hör sedan skaparna av filmen Simon Stanford och Marika Griehsel berätta mer. Simon är internationell TV-kameraman\, producent och korrespondent från 1993. Han är 5:e generationen sydafrikan och växte upp i samma region som Mandela bland Xhosafolket. Från 1991 arbetade han tillsammans med Marika som var afrikakrorespondent för SVT 1991-2002.  \nServering kommer finnas på plats. Mer info om kvällen uppdateras inom kort.
URL:https://rogrinna.se/kalender/filmvisning-mandela-the-final-chapter/
LOCATION:Rö’grinna gård\, Kånkback 114\, Hammarstrand\, Ragunda\, 84492\, Sweden
ATTACH;FMTTYPE=image/jpeg:https://rogrinna.se/wp-content/uploads/2025/04/Simon-and-Mandela-copy-2.jpg
END:VEVENT
BEGIN:VEVENT
DTSTART;VALUE=DATE:20250913
DTEND;VALUE=DATE:20250915
DTSTAMP:20260421T203921
CREATED:20250427T223822Z
LAST-MODIFIED:20250428T180607Z
UID:585-1757721600-1757894399@rogrinna.se
SUMMARY:Skördefest på gården
DESCRIPTION:Den 13-14 september är det dags för 2025 års upplaga av Skördefest Jämtland Härjedalen och Rögrinna gård är som vanligt med. Skördefest är ett utmärkt tillfälle för en härlig utflykt och besök på gården. \nVi öppnar upp gården\, fyller upp i gårdsbutiken. bjuder in fler lokala matproducenter\, serverar lunch och fika\, arrangerar aktiviteter\, självplock med mera. \nLäs mer om Skördefest och vilka gårdar som är med här: https://torsta.se/skordefest-jamtland-harjedalen/
URL:https://rogrinna.se/kalender/skordefest-pa-garden/
LOCATION:Rö’grinna gård\, Kånkback 114\, Hammarstrand\, Ragunda\, 84492\, Sweden
ATTACH;FMTTYPE=image/jpeg:https://rogrinna.se/wp-content/uploads/2025/04/received_266681112852644.jpeg
END:VEVENT
BEGIN:VEVENT
DTSTART;VALUE=DATE:20260620
DTEND;VALUE=DATE:20260907
DTSTAMP:20260421T203921
CREATED:20260321T200427Z
LAST-MODIFIED:20260321T200525Z
UID:641-1781913600-1788739199@rogrinna.se
SUMMARY:Konstvandring på gården
DESCRIPTION:Konstvandring på gården – tredje sommaren\nMed keramikern Anna Holmberg Björk\n\nSommarens utställning på Rögrinna Gård tar dig med på en utflykt i gränslandet mellan fantasi och verklighet. Konstnären uttrycker i sina verk något av det som historieberättare gjort i alla tider: ”Lyssna på den här sagan och du ska förstå något viktigt om livet.” \nAnna Holmberg Björk växte upp i Ragunda\, men är sedan länge bosatt i Göteborg. I sin konstnärsateljé arbetar hon främst med lera\, men trä\, glas\, metall och textil kompletterar ofta hennes verk. \nOm du besökte Annas utställning förra sommaren kommer du att känna igen några verk\, men merparten är helt nya. \nLäs mer om Annas konst här \nUställningen pågår 20 juni – 6 september\nÖppet alla dagar kl 10-18. Gratis inträde\nVernissage midsommardagen – mer info kommer
URL:https://rogrinna.se/kalender/konstvandring-pa-garden/
LOCATION:Rö’grinna gård\, Kånkback 114\, Hammarstrand\, Ragunda\, 84492\, Sweden
ATTACH;FMTTYPE=image/jpeg:https://rogrinna.se/wp-content/uploads/2026/03/4.jpg
END:VEVENT
BEGIN:VEVENT
DTSTART;TZID=Europe/Stockholm:20260708T170000
DTEND;TZID=Europe/Stockholm:20260708T230000
DTSTAMP:20260421T203921
CREATED:20260320T220633Z
LAST-MODIFIED:20260320T221358Z
UID:625-1783530000-1783551600@rogrinna.se
SUMMARY:Musik på gården: Maxida Märak
DESCRIPTION:Tillsammans med Siljemyra Mathantverk arrangerar vi gårdskonserter sommartid under bar himmel\, med lokal mat och unik atmosfär.\nDen 8 juli ser vi fram emot att välkomna Maxida Märak till Musik på gården för en exklusiv spelning i sommarkvällen.\n\nBILJETTSLÄPP INOM KORT – HÅLL UTKIK!\n\nNaturkraften Maxida Märak har under det senaste decenniet varit en ständigt aktuell och mångfacetterad artist. Med sin unika blandning av musik\, skådespeleri och starkt samhällsengagemang har hon gjort ett outplånligt avtryck på den svenska kulturscenen. Nu tar hon ett nytt\, oväntat kliv i sin kreativa resa. Under våren 2025 släppte hon albumet Lånat\, där hon tolkar svenska visor med en personlig och modern prägel. \nLåtarna är en musikalisk brygga mellan då och nu\, där Maxida behåller visans själ men infuserar den med sin egen unika klang där jojken alltid har en självklar plats. Det är inte en omskrivning av det gamla\, utan en respektfull förvaltning och vidareutveckling av en tidlös tradition. \nMaxida har turnerat i Sverige\, Norge\, Finland\, Kanada\, USA och Grönland med sin egenproducerade hiphop. Hennes katalog innefattar tre album\, ett stort antal singlar och EP:s\, och hon har skapat en unik fusion mellan hiphop och jojk\, där Sápmi alltid varit normen. \nDen 8 juli gästar hon scenen här på gården och bjuder på en oförglömlig kväll – en hyllning till visan\, berättandet och musikens förmåga att förena generationer och kulturer. \n  \nMusik på gården är mysiga och genuina konsertkvällar under sommaren med musikupplevelser utöver det vanliga. Här serverar vi konsertkäk från gårdens råvaror och gårdsplanen fylls av gäster. Allt med gården\, odlingarna och det Ragundadalen i anslutning. \nNär du besöker våra event ger du inte bara dig själv en fin upplevelse\, du stöttar också vårt arbete mot ett mer hållbart matsystem och en levande landsbygd där jordbruk\, mathantverk och kultur kan blomstra.
URL:https://rogrinna.se/kalender/musik-pa-garden-maxida/
LOCATION:Rö’grinna gård\, Kånkback 114\, Hammarstrand\, Ragunda\, 84492\, Sweden
ATTACH;FMTTYPE=image/jpeg:https://rogrinna.se/wp-content/uploads/2026/03/musik-pa-garden-2026.jpg
END:VEVENT
BEGIN:VEVENT
DTSTART;TZID=Europe/Stockholm:20260717T170000
DTEND;TZID=Europe/Stockholm:20260717T230000
DTSTAMP:20260421T203921
CREATED:20260320T222115Z
LAST-MODIFIED:20260320T222115Z
UID:634-1784307600-1784329200@rogrinna.se
SUMMARY:Musik på gården: Johan Airijoki
DESCRIPTION:Tillsammans med Siljemyra Mathantverk arrangerar vi gårdskonserter sommartid under bar himmel\, med lokal mat och unik atmosfär. \nDen 17 juli ser vi fram emot att välkomna Johan Airijoki till Musik på gården för en exklusiv spelning i sommarkvällen. \nBILJETTSLÄPP INOM KORT – HÅLL UTKIK! \nI oktober släppte Gällivaresonen Johan Airijoki sitt sjätte album ”Rockens vingar”\, som hyllades av både publik och kritiker. Sedan debuten 2015 har Airijoki – både solo och tillsammans med Malmfältens Rockklubb – byggt upp ett rykte som en av landets mest uttrycksfulla liveartister. Hans konserter är svängiga\, suggestiva och dynamiska\, där publiken ofta blir en självklar del av musiken. \nUnder vintern och våren 2026 är han ute på en längre turné med det nya albumet\, men självklart också med de äldre låtarna som ofta leder till allsång. Från att länge ha varit något av en dold skatt\, älskad av den publik som själva hittat fram till hans låtskrivande\, har Airijoki vuxit till att sälja ut stora rockklubbar i Stockholm\, Göteborg och Malmö. \nPå Rockens vingar utforskar han ett brett musikaliskt landskap – från drivande gitarrer till mer lågmälda\, countrydoftande berättelser om liv\, längtan och svärta. Resultatet är ett album som både är hans tyngsta och kanske mest sköra hittills. \nEn kväll med Johan Airijoki är en resa genom tunga riff\, finstämda melodier och stark närvaro. Vi vågar lova att det här blir en konsertkväll att minnas på gården. \n\nMusik på gården är mysiga och genuina konsertkvällar under sommaren med musikupplevelser utöver det vanliga. Här serverar vi konsertkäk från gårdens råvaror och gårdsplanen fylls av gäster. Allt med gården\, odlingarna och det Ragundadalen i anslutning.\n\nNär du besöker våra event ger du inte bara dig själv en fin upplevelse\, du stöttar också vårt arbete mot ett mer hållbart matsystem och en levande landsbygd där jordbruk\, mathantverk och kultur kan blomstra.
URL:https://rogrinna.se/kalender/musik-pa-garden-johan-airijoki/
LOCATION:Rö’grinna gård\, Kånkback 114\, Hammarstrand\, Ragunda\, 84492\, Sweden
ATTACH;FMTTYPE=image/jpeg:https://rogrinna.se/wp-content/uploads/2026/03/musik-pa-garden-2026-2.jpg
END:VEVENT
BEGIN:VEVENT
DTSTART;TZID=Europe/Stockholm:20260725T170000
DTEND;TZID=Europe/Stockholm:20260725T230000
DTSTAMP:20260421T203921
CREATED:20260320T222547Z
LAST-MODIFIED:20260320T222547Z
UID:638-1784998800-1785020400@rogrinna.se
SUMMARY:Musik på gården: Ebba Forsberg
DESCRIPTION:Tillsammans med Siljemyra Mathantverk arrangerar vi gårdskonserter sommartid under bar himmel\, med lokal mat och unik atmosfär. \nDen 8 juli ser vi fram emot att välkomna Maxida Märak till Musik på gården för en exklusiv spelning i sommarkvällen. \nBILJETTSLÄPP INOM KORT – HÅLL UTKIK! \nEbba Forsberg har i år släppt ny platta och tar Leonard Cohens musik ut på vägarna med turnén Amen\, amen\, amen – en stark\, innerlig och drabbande hyllning till en av vår tids största poeter.Med sin unika röst och närvaro förvandlar hon varje låt till något nytt\, men det är ändå djupt bekant. En kväll fylld av värme\, melankoli och magi – där musiken känns lika helig som mänsklig. \n  \nEbba Forsberg har tidigare släppt flera kritikerrosade skivor\, bland annat debutalbumet Been There (1997) samt tre album med personliga tolkningar av Dylan\, Cohen och Waits. Våren 2025 genomförde hon turnén Ebba Forsberg tolkar Dylan\, Cohen och Waits – en succé där samtliga spelställen sålde slut. \n  \nÖversättningarna är gjorda av Mikael Wiehe\, som tillsammans med Ebba arbetat för att bevara Cohens poetiska kraft på ett nytt språk. \n  \nMed albumet och turnén bjuder Ebba Forsberg in både gamla och nya lyssnare till en musikalisk resa där Cohens tidlösa lyrik möter en ny röst och en ny tid. \n\nMusik på gården är mysiga och genuina konsertkvällar under sommaren med musikupplevelser utöver det vanliga. Här serverar vi konsertkäk från gårdens råvaror och gårdsplanen fylls av gäster. Allt med gården\, odlingarna och det Ragundadalen i anslutning.\n\nNär du besöker våra event ger du inte bara dig själv en fin upplevelse\, du stöttar också vårt arbete mot ett mer hållbart matsystem och en levande landsbygd där jordbruk\, mathantverk och kultur kan blomstra.
URL:https://rogrinna.se/kalender/musik-pa-garden-ebba-forsberg/
LOCATION:Rö’grinna gård\, Kånkback 114\, Hammarstrand\, Ragunda\, 84492\, Sweden
ATTACH;FMTTYPE=image/jpeg:https://rogrinna.se/wp-content/uploads/2026/03/musik-pa-garden-2026-1.jpg
END:VEVENT
END:VCALENDAR